BEGIN:VCALENDAR
VERSION:2.0
PRODID:-//Bündnis90/Die Grünen Kreisverband Vulkaneifel - ECPv6.15.18//NONSGML v1.0//EN
CALSCALE:GREGORIAN
METHOD:PUBLISH
X-ORIGINAL-URL:https://gruene-vulkaneifel.de
X-WR-CALDESC:Veranstaltungen für Bündnis90/Die Grünen Kreisverband Vulkaneifel
REFRESH-INTERVAL;VALUE=DURATION:PT1H
X-Robots-Tag:noindex
X-PUBLISHED-TTL:PT1H
BEGIN:VTIMEZONE
TZID:Europe/Berlin
BEGIN:DAYLIGHT
TZOFFSETFROM:+0100
TZOFFSETTO:+0200
TZNAME:CEST
DTSTART:20240331T010000
END:DAYLIGHT
BEGIN:STANDARD
TZOFFSETFROM:+0200
TZOFFSETTO:+0100
TZNAME:CET
DTSTART:20241027T010000
END:STANDARD
BEGIN:DAYLIGHT
TZOFFSETFROM:+0100
TZOFFSETTO:+0200
TZNAME:CEST
DTSTART:20250330T010000
END:DAYLIGHT
BEGIN:STANDARD
TZOFFSETFROM:+0200
TZOFFSETTO:+0100
TZNAME:CET
DTSTART:20251026T010000
END:STANDARD
BEGIN:DAYLIGHT
TZOFFSETFROM:+0100
TZOFFSETTO:+0200
TZNAME:CEST
DTSTART:20260329T010000
END:DAYLIGHT
BEGIN:STANDARD
TZOFFSETFROM:+0200
TZOFFSETTO:+0100
TZNAME:CET
DTSTART:20261025T010000
END:STANDARD
END:VTIMEZONE
BEGIN:VEVENT
DTSTART;TZID=Europe/Berlin:20250111T154500
DTEND;TZID=Europe/Berlin:20250111T180000
DTSTAMP:20260423T121602
CREATED:20241220T184744Z
LAST-MODIFIED:20250110T191017Z
UID:10639-1736610300-1736618400@gruene-vulkaneifel.de
SUMMARY:Einladung zum Neujahrsempfang – Familien im Fokus
DESCRIPTION:Der Kreisverband Vulkaneifel von Bündnis 90/DIE GRÜNEN lädt am 11.01.2025 Uhr zum traditionellen Neujahrsempfang in den Gerolsteiner Lokschuppen ein. Die Veranstaltung steht dieses Mal unter dem thematischen Motto „Grüne Vulkaneifel – Familien im Fokus.“ \nPassend zum Familienpolitik-Motto sind neben dem Direktkandidaten der Grünen aus dem hiesigen Wahlkreis\, Stephan Lequen\, der Landrätin Julia Gieseking auch die Bundestagsabgeordnete Corinna Rüffer sowie die Landtagsabgeordnete Lisett Stuppy zu Gastbeiträgen geladen. \nCorinna Rüffer bearbeitet im Bundestag für die grüne Fraktion den Bereich Behindertenpolitik und ist Mitglied im Ausschuss für Arbeit und Soziales des Bundestags. Lisett Stuppy ist im rheinland-pfälzischen Landtag Mitglied im Ausschuss für Gleichstellung für Frauen sowie für Familie\, Jugend\, Integration und Verbraucherschutz. \nAuch die Westeifelwerke und eine KiTa werden ihre Arbeit in einem kurzen Beitrag nochmals vorstellen. \nFür die musikalische Umrahmung sorgen Lisa Henn\, die Musikschule SpielMit (Keyboard) und Paulina Schmitz (Gesang). \nAlle Interessierten sind herzlich eingeladen\, mit den Politikvertreter*innen vor Ort persönlich im ungezwungenen Rahmen ins Gespräch zu kommen. \nProgramm (kurzfristige Änderungen vorbehalten): \n\n15:45 Sektempfang und Begrüßung durch die Sprecher*innen des Kreisverbands\nGrußworte des Direktkandidaten Stefan Lequen aus Wittlich\nGrußwort der Landrätin Julia Gieseking\nRedebeitrag Corinna Rüffer\, MdB\nRedebeitrag Leitung der Westeifelwerke\nRedebeitrag Lisett Stuppy\, MdL (ca. 17.00 Uhr)\nRedebeitrag Leitung integrative KiTa\n\nIm Anschluss ist bei einem kleinen Essensangebot ausreichend Gelegenheit zum Austausch. \n 
URL:https://gruene-vulkaneifel.de/event/einladung-zum-neujahrsempfang-familien-im-fokus/
LOCATION:Lokschuppen\, Kasselburgerweg 16\, Gerolstein\, Rheinland-Pfalz\, 54568\, Deutschland
CATEGORIES:Infoveranstaltung
ATTACH;FMTTYPE=image/jpeg:https://gruene-vulkaneifel.de/wp-content/uploads/2024/12/EinladungNeujahrsempfang2025.jpg
END:VEVENT
END:VCALENDAR