BEGIN:VCALENDAR
VERSION:2.0
PRODID:-//Bündnis90/Die Grünen Kreisverband Vulkaneifel - ECPv6.15.18//NONSGML v1.0//EN
CALSCALE:GREGORIAN
METHOD:PUBLISH
X-WR-CALNAME:Bündnis90/Die Grünen Kreisverband Vulkaneifel
X-ORIGINAL-URL:https://gruene-vulkaneifel.de
X-WR-CALDESC:Veranstaltungen für Bündnis90/Die Grünen Kreisverband Vulkaneifel
REFRESH-INTERVAL;VALUE=DURATION:PT1H
X-Robots-Tag:noindex
X-PUBLISHED-TTL:PT1H
BEGIN:VTIMEZONE
TZID:Europe/Berlin
BEGIN:DAYLIGHT
TZOFFSETFROM:+0100
TZOFFSETTO:+0200
TZNAME:CEST
DTSTART:20240331T010000
END:DAYLIGHT
BEGIN:STANDARD
TZOFFSETFROM:+0200
TZOFFSETTO:+0100
TZNAME:CET
DTSTART:20241027T010000
END:STANDARD
BEGIN:DAYLIGHT
TZOFFSETFROM:+0100
TZOFFSETTO:+0200
TZNAME:CEST
DTSTART:20250330T010000
END:DAYLIGHT
BEGIN:STANDARD
TZOFFSETFROM:+0200
TZOFFSETTO:+0100
TZNAME:CET
DTSTART:20251026T010000
END:STANDARD
BEGIN:DAYLIGHT
TZOFFSETFROM:+0100
TZOFFSETTO:+0200
TZNAME:CEST
DTSTART:20260329T010000
END:DAYLIGHT
BEGIN:STANDARD
TZOFFSETFROM:+0200
TZOFFSETTO:+0100
TZNAME:CET
DTSTART:20261025T010000
END:STANDARD
END:VTIMEZONE
BEGIN:VEVENT
DTSTART;TZID=Europe/Berlin:20250317T190000
DTEND;TZID=Europe/Berlin:20250317T210000
DTSTAMP:20260424T082200
CREATED:20250316T170207Z
LAST-MODIFIED:20250316T170207Z
UID:10772-1742238000-1742245200@gruene-vulkaneifel.de
SUMMARY:Kreismitgliederversammlung
DESCRIPTION:Liebe Mitglieder und Interessent:innen\, \nim Namen und in Absprache mit dem Vorstand des Kreisverbandes Vulkaneifel lade ich ganz herzlich fristgerecht zur Kreismitgliederversammlung ein. \nAls Tagesordnungspunkte schlage ich vor: \nTOP \n\n Begrüßung und Formalia\nRückschau Bundestagswahlkampf\nWahlen zur Landedelegiertenkonferenz (Delegierte und Vertreter:innen) am 10. und 11. Mai in Idar- Oberstein\n         a: Wahl der Wahlkommission\n         b: Wahl der Delegierten und deren Vertreter:innen\nEntwicklung der Mitgliederzahlen und Einbindung der neuen Mitglieder in die Parteiarbeit\nAbsprache eines zeitnahen Termins der nächsten KMV\, auf der der geschäftsführende Vorstand zurücktreten wird\, um im Anschluss Neuwahlen stattfinden lassen zu können.\nVerschiedenes\n\nDie Landesschatzmeisterin  Lydia Enders wird die Leitung des Abends übernehmen. \nOrt: Landgasthof „Zur Schauerbach“ \, Schauerbachstr. 1 in Gerolstein -Müllenborn gegenüber der Teichanlage. Bitte beachtet: es werden derzeit keine Speisen angeboten. \nMitgliederversammlungen der Grünen sind öffentlich und Gäste herzlich Willkommen.
URL:https://gruene-vulkaneifel.de/event/kreismitgliederversammlung-19/
LOCATION:Gaststätte Zur Schauerbach\, Schauerbach 1\, Gerolstein
CATEGORIES:Kreismitgliederversammlung
END:VEVENT
END:VCALENDAR