BEGIN:VCALENDAR
VERSION:2.0
PRODID:-//Bündnis90/Die Grünen Kreisverband Vulkaneifel - ECPv6.15.18//NONSGML v1.0//EN
CALSCALE:GREGORIAN
METHOD:PUBLISH
X-ORIGINAL-URL:https://gruene-vulkaneifel.de
X-WR-CALDESC:Veranstaltungen für Bündnis90/Die Grünen Kreisverband Vulkaneifel
REFRESH-INTERVAL;VALUE=DURATION:PT1H
X-Robots-Tag:noindex
X-PUBLISHED-TTL:PT1H
BEGIN:VTIMEZONE
TZID:Europe/Berlin
BEGIN:DAYLIGHT
TZOFFSETFROM:+0100
TZOFFSETTO:+0200
TZNAME:CEST
DTSTART:20240331T010000
END:DAYLIGHT
BEGIN:STANDARD
TZOFFSETFROM:+0200
TZOFFSETTO:+0100
TZNAME:CET
DTSTART:20241027T010000
END:STANDARD
BEGIN:DAYLIGHT
TZOFFSETFROM:+0100
TZOFFSETTO:+0200
TZNAME:CEST
DTSTART:20250330T010000
END:DAYLIGHT
BEGIN:STANDARD
TZOFFSETFROM:+0200
TZOFFSETTO:+0100
TZNAME:CET
DTSTART:20251026T010000
END:STANDARD
BEGIN:DAYLIGHT
TZOFFSETFROM:+0100
TZOFFSETTO:+0200
TZNAME:CEST
DTSTART:20260329T010000
END:DAYLIGHT
BEGIN:STANDARD
TZOFFSETFROM:+0200
TZOFFSETTO:+0100
TZNAME:CET
DTSTART:20261025T010000
END:STANDARD
END:VTIMEZONE
BEGIN:VEVENT
DTSTART;TZID=Europe/Berlin:20251124T180000
DTEND;TZID=Europe/Berlin:20251124T200000
DTSTAMP:20260425T040049
CREATED:20251116T191213Z
LAST-MODIFIED:20251116T191326Z
UID:10959-1764007200-1764014400@gruene-vulkaneifel.de
SUMMARY:Offene Fraktionssitzung Grüne Fraktion im Verbandsgemeinderat
DESCRIPTION:Sie sind interessiert mehr über die Grüne Politik im Verbandsgemeinderat Gerolstein zu erfahren? Wir laden Sie herzlich zur offenen Fraktionssitzung am Montag den 24.11.2025\, 18:00 Uhr im Rathaus Gerolstein (Erdgeschoss) ein. Fraktionssitzungen von Bündnis 90/Die Grünen sind immer öffentlich und Gäste herzlich wilkommen
URL:https://gruene-vulkaneifel.de/event/offene-fraktionssitzung-gruene-fraktion-im-verbandsgemeinderat/
LOCATION:Rathaus\, Kyllweg 1\, Gerolstein
END:VEVENT
END:VCALENDAR