BEGIN:VCALENDAR
VERSION:2.0
PRODID:-//Bündnis90/Die Grünen Kreisverband Vulkaneifel - ECPv6.15.18//NONSGML v1.0//EN
CALSCALE:GREGORIAN
METHOD:PUBLISH
X-WR-CALNAME:Bündnis90/Die Grünen Kreisverband Vulkaneifel
X-ORIGINAL-URL:https://gruene-vulkaneifel.de
X-WR-CALDESC:Veranstaltungen für Bündnis90/Die Grünen Kreisverband Vulkaneifel
REFRESH-INTERVAL;VALUE=DURATION:PT1H
X-Robots-Tag:noindex
X-PUBLISHED-TTL:PT1H
BEGIN:VTIMEZONE
TZID:Europe/Berlin
BEGIN:DAYLIGHT
TZOFFSETFROM:+0100
TZOFFSETTO:+0200
TZNAME:CEST
DTSTART:20240331T010000
END:DAYLIGHT
BEGIN:STANDARD
TZOFFSETFROM:+0200
TZOFFSETTO:+0100
TZNAME:CET
DTSTART:20241027T010000
END:STANDARD
BEGIN:DAYLIGHT
TZOFFSETFROM:+0100
TZOFFSETTO:+0200
TZNAME:CEST
DTSTART:20250330T010000
END:DAYLIGHT
BEGIN:STANDARD
TZOFFSETFROM:+0200
TZOFFSETTO:+0100
TZNAME:CET
DTSTART:20251026T010000
END:STANDARD
BEGIN:DAYLIGHT
TZOFFSETFROM:+0100
TZOFFSETTO:+0200
TZNAME:CEST
DTSTART:20260329T010000
END:DAYLIGHT
BEGIN:STANDARD
TZOFFSETFROM:+0200
TZOFFSETTO:+0100
TZNAME:CET
DTSTART:20261025T010000
END:STANDARD
END:VTIMEZONE
BEGIN:VEVENT
DTSTART;TZID=Europe/Berlin:20250413T140000
DTEND;TZID=Europe/Berlin:20250413T170000
DTSTAMP:20260424T040221
CREATED:20250402T055418Z
LAST-MODIFIED:20250402T071141Z
UID:10779-1744552800-1744563600@gruene-vulkaneifel.de
SUMMARY:Treffen für Neumitglieder
DESCRIPTION:Ich lade alle Neumitglieder der Jahre 2024 und 2025 herzlich zu einem „Be-Schnuppernachmittag“ ein. \nEs soll ein lockeres Treffen werden\, bei dem wir uns ohne Formalitäten austauschen und kennenlernen können. Einige erfahrene Mitglieder werden anwesend sein und gern Fragen beantworten. \nWir treffen uns am Sonntag\, den 13.04.2025 um 14.00 Uhr auf dem Parkplatz an der Nohner Mühle. Ich würde gern mit euch eine kleine Runde zum Wasserfall laufen\, um danach zu Kaffee\, Kuchen/Waffeln in der schönen Mühle einzukehren. \nDort werden wir um 15 Uhr erwartet. \nIch freue mich auf eure Teilnahme\nUwe Rahn\nNeumitgliederbeauftragter \nBei Fragen meldet euch: u.rahn@gruene-vulkaneifel.de
URL:https://gruene-vulkaneifel.de/event/treffen-fuer-neumitglieder-2/
LOCATION:Nohner Mühle\, Nohner Mühle 2\, Nohn\, Rheinland-Pfalz\, 54578
CATEGORIES:Infoveranstaltung
ATTACH;FMTTYPE=image/png:https://gruene-vulkaneifel.de/wp-content/uploads/2025/04/Neumitgliedertreffen-1.png
END:VEVENT
BEGIN:VEVENT
DTSTART;TZID=Europe/Berlin:20250429T190000
DTEND;TZID=Europe/Berlin:20250429T210000
DTSTAMP:20260424T040221
CREATED:20250418T121241Z
LAST-MODIFIED:20250418T121539Z
UID:10788-1745953200-1745960400@gruene-vulkaneifel.de
SUMMARY:Kreismitgliederversammlung mit Vorstandswahlen
DESCRIPTION:Einladung zur Kreismitgliederversammlung\nKrimi Hotel (Kaminzimmer)\, Am Markt 14\, 54576 Hillesheim am Dienstag 29.04.2025\, um 19:00 Uhr \nVorläufige Tagesordnung:\nTOP 1) Begrüßung / Wahl und Übergabe der Versammlungsleitung \nTOP 2 ) Feststellung der Beschlussfähigkeit und Feststellung der fristgerechten / ordnungsgemäßen Einladung \nTOP 3) Bericht Kassenprüfer/in Jahr 2024 \nTOP 4) Rechenschaftsbericht des Vorstandes und der Schatzmeisterin\, ggf. Aussprache und Entlastung des Vorstandes \nTOP 5) Wahl des Vorstandes \n\nWahl der Wahlkommission\nWahl der beiden Sprecher/innen\nWahl der Schatzmeisterin / des Schatzmeisters\nWahl der vier Beisitzer/innen\n\nTOP 6) Direktkandidat/in für die Landtagswahl 2026 – Bewerbungen – Wahl \nTOP 7) Arbeit Vorstand – Mitglieder – Ratsmitglieder (Diskussionspapier Burkhard) \nTOP 8) Bericht aus den Räten \nTOP 9) Verschiedenes \nMitgliederversammlungen der Grünen sind grundsätzlich öffentlich und Gäste herzlich willkommen
URL:https://gruene-vulkaneifel.de/event/kreismitgliederversammlung-mit-vorstandswahlen/
LOCATION:Krimihotel\, Hillesheim\, Am Markt 14\, Hillesheim
CATEGORIES:Kreismitgliederversammlung
END:VEVENT
END:VCALENDAR