BEGIN:VCALENDAR
VERSION:2.0
PRODID:-//Bündnis90/Die Grünen Kreisverband Vulkaneifel - ECPv6.15.18//NONSGML v1.0//EN
CALSCALE:GREGORIAN
METHOD:PUBLISH
X-WR-CALNAME:Bündnis90/Die Grünen Kreisverband Vulkaneifel
X-ORIGINAL-URL:https://gruene-vulkaneifel.de
X-WR-CALDESC:Veranstaltungen für Bündnis90/Die Grünen Kreisverband Vulkaneifel
REFRESH-INTERVAL;VALUE=DURATION:PT1H
X-Robots-Tag:noindex
X-PUBLISHED-TTL:PT1H
BEGIN:VTIMEZONE
TZID:Europe/Berlin
BEGIN:DAYLIGHT
TZOFFSETFROM:+0100
TZOFFSETTO:+0200
TZNAME:CEST
DTSTART:20240331T010000
END:DAYLIGHT
BEGIN:STANDARD
TZOFFSETFROM:+0200
TZOFFSETTO:+0100
TZNAME:CET
DTSTART:20241027T010000
END:STANDARD
BEGIN:DAYLIGHT
TZOFFSETFROM:+0100
TZOFFSETTO:+0200
TZNAME:CEST
DTSTART:20250330T010000
END:DAYLIGHT
BEGIN:STANDARD
TZOFFSETFROM:+0200
TZOFFSETTO:+0100
TZNAME:CET
DTSTART:20251026T010000
END:STANDARD
BEGIN:DAYLIGHT
TZOFFSETFROM:+0100
TZOFFSETTO:+0200
TZNAME:CEST
DTSTART:20260329T010000
END:DAYLIGHT
BEGIN:STANDARD
TZOFFSETFROM:+0200
TZOFFSETTO:+0100
TZNAME:CET
DTSTART:20261025T010000
END:STANDARD
END:VTIMEZONE
BEGIN:VEVENT
DTSTART;TZID=Europe/Berlin:20250604T183000
DTEND;TZID=Europe/Berlin:20250604T203000
DTSTAMP:20260424T081828
CREATED:20250603T065650Z
LAST-MODIFIED:20250603T065650Z
UID:10814-1749061800-1749069000@gruene-vulkaneifel.de
SUMMARY:Grüner Stammtisch in Daun
DESCRIPTION:Der nächste Stammtisch der Dauner Grünen findet wie gewohnt am ersten Mittwoch im Monat am 4. Juni\, um 18.30 Uhr im Landhotel Krolik in Daun-Gemünden statt.\nDa der letzte Stammtisch abgesagt wurde und der Stammtisch davor auch sehr schlecht besucht war\, hoffe wir jetzt wieder auf eine bessere Beteiligung.\nGesprächsstoff gibt es mehr als genug:\n\nBericht aus den kommunalen Gremien (VG-Rat\, Stadtrat\, Ausschüsse) und die damit verbundenen zahlreichen Themen (Innenstadt-Impulse\, Heilwald\, Finanzen\, Soziales\, Wasser…..)\nSituation der Partei vor Ort\, allgemein\, Aktivierung der Mitglieder
URL:https://gruene-vulkaneifel.de/event/gruener-stammtisch-in-daun-2/
LOCATION:Landhote Krolik\, Daun-Gemüden\, Lieserstrasse 17\, Daun\, 54550
CATEGORIES:Stammtisch
END:VEVENT
BEGIN:VEVENT
DTSTART;TZID=Europe/Berlin:20250629T100000
DTEND;TZID=Europe/Berlin:20250629T150000
DTSTAMP:20260424T081828
CREATED:20250603T071050Z
LAST-MODIFIED:20250610T074912Z
UID:10817-1751191200-1751209200@gruene-vulkaneifel.de
SUMMARY:Grüne Radtour
DESCRIPTION:Der Kreisverband Vulkaneifel Bündnis 90/ Die Grünen lädt alle Interessierten am Sonntag den 29. Juni 2025 herzlich zu einer geführten Radtour ab Gerolstein ein. \nAuf einer mittelschweren\, für normal trainierte Fahrer auch ohne E-Bike zu bewältigende Rundtour von 38 km geht es mit wenigen Steigungen von Gerolstein aus den Kylltal-Radweg entlang und durch das Bolsdorfer Tälchen nach Oberbettingen über das „Goldmedaillendorf“ Basberg nach Steffeln\, wo im Gasthof Sünnen eine Pause eingelegt wird. Über das renaturierte Eichholzmaar und die Ausgrabungsstelle „Römervilla“ geht es über Kalenborn-Scheuern zurück nach Gerolstein. \n \nDie Radler werden unterwegs an einigen Stopps von Referent*innen erwartet\, die Spannendes aus Natur\, Kultur und Umwelt der jeweiligen Standorte erzählen\, Projekte vorstellen und Fragen beantworten. \nDie Teilnahme ist frei\, aus organisatorischen Gründen aber Rückmeldung erbeten an Uwe Rahn u.rahn@gruene-vulkaneifel.de oder  0174 7158063. \nTreff: So. 29.06. 10:00 Uhr Kurpark Gerolstein\, Helenbrunnen \nHier noch der Track  der geplanten Route \n 
URL:https://gruene-vulkaneifel.de/event/gruene-radtour/
LOCATION:Helenenquelle Gerolstein\, Kyllweg 1\, Gerolstein
ATTACH;FMTTYPE=image/png:https://gruene-vulkaneifel.de/wp-content/uploads/2025/06/GrueneRadtour2025harepicpng.png
END:VEVENT
END:VCALENDAR