BEGIN:VCALENDAR
VERSION:2.0
PRODID:-//Bündnis90/Die Grünen Kreisverband Vulkaneifel - ECPv6.15.18//NONSGML v1.0//EN
CALSCALE:GREGORIAN
METHOD:PUBLISH
X-WR-CALNAME:Bündnis90/Die Grünen Kreisverband Vulkaneifel
X-ORIGINAL-URL:https://gruene-vulkaneifel.de
X-WR-CALDESC:Veranstaltungen für Bündnis90/Die Grünen Kreisverband Vulkaneifel
REFRESH-INTERVAL;VALUE=DURATION:PT1H
X-Robots-Tag:noindex
X-PUBLISHED-TTL:PT1H
BEGIN:VTIMEZONE
TZID:Europe/Berlin
BEGIN:DAYLIGHT
TZOFFSETFROM:+0100
TZOFFSETTO:+0200
TZNAME:CEST
DTSTART:20240331T010000
END:DAYLIGHT
BEGIN:STANDARD
TZOFFSETFROM:+0200
TZOFFSETTO:+0100
TZNAME:CET
DTSTART:20241027T010000
END:STANDARD
BEGIN:DAYLIGHT
TZOFFSETFROM:+0100
TZOFFSETTO:+0200
TZNAME:CEST
DTSTART:20250330T010000
END:DAYLIGHT
BEGIN:STANDARD
TZOFFSETFROM:+0200
TZOFFSETTO:+0100
TZNAME:CET
DTSTART:20251026T010000
END:STANDARD
BEGIN:DAYLIGHT
TZOFFSETFROM:+0100
TZOFFSETTO:+0200
TZNAME:CEST
DTSTART:20260329T010000
END:DAYLIGHT
BEGIN:STANDARD
TZOFFSETFROM:+0200
TZOFFSETTO:+0100
TZNAME:CET
DTSTART:20261025T010000
END:STANDARD
END:VTIMEZONE
BEGIN:VEVENT
DTSTART;TZID=Europe/Berlin:20251028T190000
DTEND;TZID=Europe/Berlin:20251028T210000
DTSTAMP:20260425T022613
CREATED:20251013T063735Z
LAST-MODIFIED:20251013T063735Z
UID:10908-1761678000-1761685200@gruene-vulkaneifel.de
SUMMARY:Grüner Stammtisch in Gerolstein
DESCRIPTION:Unser nächster grüner Stammtisch findet statt am Dienstag 28. September ab 19:00 Uhr in Leo’s Bar in Gerolstein. Wie immer offen auch für Gäste ist es ein offener Austausch ohne Formalien zu allem\, was uns bewegt und interessiert\, oder auch einfach mal nur zum Kennenlernen. \nEine Anmeldung ist nicht erforderlich\, einfach reinschauen. Der Stammtisch findet jeden letzten Dienstag im Monat statt. \nKontakt: Gisela Rau
URL:https://gruene-vulkaneifel.de/event/gruener-stammtisch-in-gerolstein-12/
LOCATION:Leo’s Bar\, Zur Büschkapelle 5\, Gerolstein\, Rheinland-Pfalz\, 54568\, Deutschland
CATEGORIES:Stammtisch
ORGANIZER;CN="B%C3%BCndnis90/Die Gr%C3%BCnen OV Kylltal":MAILTO:gruene-gerolstein@t-online.de
END:VEVENT
END:VCALENDAR