BEGIN:VCALENDAR
VERSION:2.0
PRODID:-//Bündnis90/Die Grünen Kreisverband Vulkaneifel - ECPv6.15.18//NONSGML v1.0//EN
CALSCALE:GREGORIAN
METHOD:PUBLISH
X-WR-CALNAME:Bündnis90/Die Grünen Kreisverband Vulkaneifel
X-ORIGINAL-URL:https://gruene-vulkaneifel.de
X-WR-CALDESC:Veranstaltungen für Bündnis90/Die Grünen Kreisverband Vulkaneifel
REFRESH-INTERVAL;VALUE=DURATION:PT1H
X-Robots-Tag:noindex
X-PUBLISHED-TTL:PT1H
BEGIN:VTIMEZONE
TZID:Europe/Berlin
BEGIN:DAYLIGHT
TZOFFSETFROM:+0100
TZOFFSETTO:+0200
TZNAME:CEST
DTSTART:20240331T010000
END:DAYLIGHT
BEGIN:STANDARD
TZOFFSETFROM:+0200
TZOFFSETTO:+0100
TZNAME:CET
DTSTART:20241027T010000
END:STANDARD
BEGIN:DAYLIGHT
TZOFFSETFROM:+0100
TZOFFSETTO:+0200
TZNAME:CEST
DTSTART:20250330T010000
END:DAYLIGHT
BEGIN:STANDARD
TZOFFSETFROM:+0200
TZOFFSETTO:+0100
TZNAME:CET
DTSTART:20251026T010000
END:STANDARD
BEGIN:DAYLIGHT
TZOFFSETFROM:+0100
TZOFFSETTO:+0200
TZNAME:CEST
DTSTART:20260329T010000
END:DAYLIGHT
BEGIN:STANDARD
TZOFFSETFROM:+0200
TZOFFSETTO:+0100
TZNAME:CET
DTSTART:20261025T010000
END:STANDARD
END:VTIMEZONE
BEGIN:VEVENT
DTSTART;TZID=Europe/Berlin:20251111T190000
DTEND;TZID=Europe/Berlin:20251111T210000
DTSTAMP:20260425T022903
CREATED:20251103T230401Z
LAST-MODIFIED:20251103T230636Z
UID:10935-1762887600-1762894800@gruene-vulkaneifel.de
SUMMARY:Kreismitgliederversammlung
DESCRIPTION:Vorläufige Tagesordnung \nTOP 1) Begrüßung und Formalia \nTOP 2) Nachwahl der ausgeschiedenen / scheidenden Mitglieder des Vorstandes \n\nWahl der Wahlleitung\, Auszählkommission\nNachwahl Sprecher*in\nNachwahl Schatzmeister*in\nNachwahl Beisitzer*innen\n\nTOP 3) BDK – Wahl Delegierte/r und Ersatzdelegierte/r \nTOP 4) Haushaltsplan \nTOP 5) Landtagswahl 2026 – Einrichtung von Teams \n\nfür Planung und Durchführung von Veranstaltungen\nfür Planung und Duchführung des Wahlkampfes LTW 2026\n\nTOP 6) Bericht aus den Räten \nTOP 7) Verschiedenes
URL:https://gruene-vulkaneifel.de/event/kreismitgliederversammlung-20/
LOCATION:Naturkundemuseum Gerolstein\, Haupstraße 72\, Gerolstein\, 54568
CATEGORIES:Kreismitgliederversammlung
ATTACH;FMTTYPE=image/png:https://gruene-vulkaneifel.de/wp-content/uploads/2023/11/der-kreisverba-facebook-sharepic.png
END:VEVENT
BEGIN:VEVENT
DTSTART;TZID=Europe/Berlin:20251124T180000
DTEND;TZID=Europe/Berlin:20251124T200000
DTSTAMP:20260425T022903
CREATED:20251116T191213Z
LAST-MODIFIED:20251116T191326Z
UID:10959-1764007200-1764014400@gruene-vulkaneifel.de
SUMMARY:Offene Fraktionssitzung Grüne Fraktion im Verbandsgemeinderat
DESCRIPTION:Sie sind interessiert mehr über die Grüne Politik im Verbandsgemeinderat Gerolstein zu erfahren? Wir laden Sie herzlich zur offenen Fraktionssitzung am Montag den 24.11.2025\, 18:00 Uhr im Rathaus Gerolstein (Erdgeschoss) ein. Fraktionssitzungen von Bündnis 90/Die Grünen sind immer öffentlich und Gäste herzlich wilkommen
URL:https://gruene-vulkaneifel.de/event/offene-fraktionssitzung-gruene-fraktion-im-verbandsgemeinderat/
LOCATION:Rathaus\, Kyllweg 1\, Gerolstein
END:VEVENT
BEGIN:VEVENT
DTSTART;TZID=Europe/Berlin:20251125T190000
DTEND;TZID=Europe/Berlin:20251125T210000
DTSTAMP:20260425T022903
CREATED:20251030T075302Z
LAST-MODIFIED:20251030T075302Z
UID:10928-1764097200-1764104400@gruene-vulkaneifel.de
SUMMARY:Grüner Stammtisch in Gerolstein
DESCRIPTION:Unser nächster grüner Stammtisch findet statt am Dienstag 25. November ab 19:00 Uhr in Leo’s Bar in Gerolstein. Wie immer offen auch für Gäste ist es ein offener Austausch ohne Formalien zu allem\, was uns bewegt und interessiert\, oder auch einfach mal nur zum Kennenlernen. \nEine Anmeldung ist nicht erforderlich\, einfach reinschauen. Der Stammtisch findet jeden letzten Dienstag im Monat statt. \nKontakt: Gisela Rau
URL:https://gruene-vulkaneifel.de/event/gruener-stammtisch-in-gerolstein-13/
LOCATION:Leo’s Bar\, Zur Büschkapelle 5\, Gerolstein\, Rheinland-Pfalz\, 54568\, Deutschland
CATEGORIES:Stammtisch
ORGANIZER;CN="B%C3%BCndnis90/Die Gr%C3%BCnen OV Kylltal":MAILTO:gruene-gerolstein@t-online.de
END:VEVENT
BEGIN:VEVENT
DTSTART;TZID=Europe/Berlin:20251129T180000
DTEND;TZID=Europe/Berlin:20251129T200000
DTSTAMP:20260425T022903
CREATED:20251117T190048Z
LAST-MODIFIED:20251117T190637Z
UID:10964-1764439200-1764446400@gruene-vulkaneifel.de
SUMMARY:Mitgliedertreffen an der Hüttenzaubärbar
DESCRIPTION:Liebe Mitglieder\, \ndie Hüttenzaubärbar in Gerolstein ist wieder aufgebaut und damit ein idealer Ort\, mal wieder zwanglos in dieser kalten Jahreszeit bei Glühwein\, Punsch und mehr oder weniger weihnachtlicher Musik zusammenzukommen\, sich kennenzulernen und auszutauschen. \nWir treffen uns am Samstag\, den 29.11.2025 ab 18 Uhr und ich freue mich auf viele bekannte und vor allem auf neue Gesichter. \nViele Grüße\nUwe
URL:https://gruene-vulkaneifel.de/event/mitgliedertreffen-an-der-huettenzaubaerbar/
LOCATION:Gerolstein\, Brunnenplatz\, Am Brunnenplatz\, Gerolstein\, Rheinland-Pfalz\, 54568
ATTACH;FMTTYPE=image/jpeg:https://gruene-vulkaneifel.de/wp-content/uploads/2025/11/Treffen-Huetenzaubaerbar-2025211-29.jpg
END:VEVENT
END:VCALENDAR