BEGIN:VCALENDAR
VERSION:2.0
PRODID:-//Bündnis90/Die Grünen Kreisverband Vulkaneifel - ECPv6.15.18//NONSGML v1.0//EN
CALSCALE:GREGORIAN
METHOD:PUBLISH
X-WR-CALNAME:Bündnis90/Die Grünen Kreisverband Vulkaneifel
X-ORIGINAL-URL:https://gruene-vulkaneifel.de
X-WR-CALDESC:Veranstaltungen für Bündnis90/Die Grünen Kreisverband Vulkaneifel
REFRESH-INTERVAL;VALUE=DURATION:PT1H
X-Robots-Tag:noindex
X-PUBLISHED-TTL:PT1H
BEGIN:VTIMEZONE
TZID:Europe/Berlin
BEGIN:DAYLIGHT
TZOFFSETFROM:+0100
TZOFFSETTO:+0200
TZNAME:CEST
DTSTART:20230326T010000
END:DAYLIGHT
BEGIN:STANDARD
TZOFFSETFROM:+0200
TZOFFSETTO:+0100
TZNAME:CET
DTSTART:20231029T010000
END:STANDARD
BEGIN:DAYLIGHT
TZOFFSETFROM:+0100
TZOFFSETTO:+0200
TZNAME:CEST
DTSTART:20240331T010000
END:DAYLIGHT
BEGIN:STANDARD
TZOFFSETFROM:+0200
TZOFFSETTO:+0100
TZNAME:CET
DTSTART:20241027T010000
END:STANDARD
BEGIN:DAYLIGHT
TZOFFSETFROM:+0100
TZOFFSETTO:+0200
TZNAME:CEST
DTSTART:20250330T010000
END:DAYLIGHT
BEGIN:STANDARD
TZOFFSETFROM:+0200
TZOFFSETTO:+0100
TZNAME:CET
DTSTART:20251026T010000
END:STANDARD
END:VTIMEZONE
BEGIN:VEVENT
DTSTART;TZID=Europe/Berlin:20240504T090000
DTEND;TZID=Europe/Berlin:20240504T120000
DTSTAMP:20260423T184448
CREATED:20240425T120832Z
LAST-MODIFIED:20240425T120832Z
UID:10312-1714813200-1714824000@gruene-vulkaneifel.de
SUMMARY:Wahlkampfstand in Jünkerath
DESCRIPTION:Wir sind #StarkVorOrt.\nUnser Wahlkampfstand am Samstag\, 4.5. ab 09:00 Uhr am Edeka Markt in Jünkerath ist die perfekte Gelegenheit\, um mit uns und unseren Kommunalwahl-Kandidaten ins Gespräch zu kommen. \nBesuchen Sie uns\, wir freuen uns auf Sie!\nZusammen können wir MACHEN\, WAS ZÄHLT.
URL:https://gruene-vulkaneifel.de/event/wahlkampfstand-in-juenkerath/
LOCATION:EDEKA Markt Jünkerath\, Auf dem Werth 21\, Jünkerath\, Rheinland-Pfalz\, 54584
CATEGORIES:Wahlkampfstand
ATTACH;FMTTYPE=image/png:https://gruene-vulkaneifel.de/wp-content/uploads/2024/04/Wahlkampfstand.png
END:VEVENT
BEGIN:VEVENT
DTSTART;TZID=Europe/Berlin:20240504T090000
DTEND;TZID=Europe/Berlin:20240504T120000
DTSTAMP:20260423T184448
CREATED:20240425T121030Z
LAST-MODIFIED:20240425T121138Z
UID:10315-1714813200-1714824000@gruene-vulkaneifel.de
SUMMARY:Wahlkampfstand in Gerolstein
DESCRIPTION:Wir sind #StarkVorOrt.\nUnser Wahlkampfstand am Samstag\, 4.5. ab 09:00 Uhr am Edeka Markt in Gerolstein ist die perfekte Gelegenheit\, um mit uns und unseren Kommunalwahl-Kandidaten ins Gespräch zu kommen. \nBesuchen Sie uns\, wir freuen uns auf Sie!\nZusammen können wir MACHEN\, WAS ZÄHLT.
URL:https://gruene-vulkaneifel.de/event/wahlkampfstand-in-gerolstein/
LOCATION:EDEKA Markt Gerolstein\, Sarresdorfer Str. 57\, Gerolstein\, Rheinland-Pfalz\, 54568\, Deutschland
CATEGORIES:Wahlkampfstand
ATTACH;FMTTYPE=image/png:https://gruene-vulkaneifel.de/wp-content/uploads/2024/04/Wahlkampfstand.png
END:VEVENT
BEGIN:VEVENT
DTSTART;TZID=Europe/Berlin:20240504T100000
DTEND;TZID=Europe/Berlin:20240504T130000
DTSTAMP:20260423T184448
CREATED:20240420T161909Z
LAST-MODIFIED:20240425T121121Z
UID:10187-1714816800-1714827600@gruene-vulkaneifel.de
SUMMARY:Wahlkampfstand in Gillenfeld
DESCRIPTION:Wir sind #StarkVorOrt.\nUnser Wahlkampfstand am Samstag\, 4.5. ab 10:00 Uhr am Edeka Markt in Gillenfeld ist die perfekte Gelegenheit\, um mit uns und unseren Kommunalwahl-Kandidaten ins Gespräch zu kommen. \nBesuchen Sie uns\, wir freuen uns auf Sie!\nZusammen können wir MACHEN\, WAS ZÄHLT.
URL:https://gruene-vulkaneifel.de/event/wahlkampfstand-in-gillenfeld/
LOCATION:EDEKA Markt Gillenfeld\, Am Markt 1\, Gillenfeld\, Rheinland-Pfalz\, 54558
CATEGORIES:Wahlkampfstand
ATTACH;FMTTYPE=image/png:https://gruene-vulkaneifel.de/wp-content/uploads/2024/04/Wahlkampfstand.png
END:VEVENT
BEGIN:VEVENT
DTSTART;TZID=Europe/Berlin:20240508T100000
DTEND;TZID=Europe/Berlin:20240508T130000
DTSTAMP:20260423T184448
CREATED:20240420T161915Z
LAST-MODIFIED:20240420T162304Z
UID:10191-1715162400-1715173200@gruene-vulkaneifel.de
SUMMARY:Wahlkampfstand in Daun
DESCRIPTION:Wir sind #StarkVorOrt.\nUnser Wahlkampfstand am Mittwoch\, 8.5. ab 10:00 Uhr auf dem großen Krammarkt in Daun ist die perfekte Gelegenheit\, um mit uns und unseren Kommunalwahl-Kandidaten ins Gespräch zu kommen. \nBesuchen Sie uns\, wir freuen uns auf Sie!\nZusammen können wir MACHEN\, WAS ZÄHLT.
URL:https://gruene-vulkaneifel.de/event/wahlkampfstand-in-daun/
LOCATION:Markplatz Daun\, Leopoldstraße\, Daun\, Rheinland-Pfalz\, 54550
CATEGORIES:Wahlkampfstand
ATTACH;FMTTYPE=image/png:https://gruene-vulkaneifel.de/wp-content/uploads/2024/04/Wahlkampfstand.png
END:VEVENT
BEGIN:VEVENT
DTSTART;TZID=Europe/Berlin:20240511T090000
DTEND;TZID=Europe/Berlin:20240511T120000
DTSTAMP:20260423T184448
CREATED:20240510T123503Z
LAST-MODIFIED:20240510T123503Z
UID:10406-1715418000-1715428800@gruene-vulkaneifel.de
SUMMARY:Wahlkampfstand in Gerolstein (Bauernmarkt)
DESCRIPTION:Wir sind #StarkVorOrt.\nUnser Wahlkampfstand am Samstag\, 11.5. ab 09:00 Uhr auf dem Bauernmarkt in Gerolstein ist die perfekte Gelegenheit\, um mit uns und unseren Kommunalwahl-Kandidaten ins Gespräch zu kommen. \nBesuchen Sie uns\, wir freuen uns auf Sie!\nZusammen können wir MACHEN\, WAS ZÄHLT.
URL:https://gruene-vulkaneifel.de/event/wahlkampfstand-in-gerolstein-bauernmarkt/
LOCATION:„Bauernmarkt“ Gerolstein\, Gerolstein\, 54568\, Deutschland
CATEGORIES:Wahlkampfstand
ATTACH;FMTTYPE=image/png:https://gruene-vulkaneifel.de/wp-content/uploads/2024/04/Wahlkampfstand.png
END:VEVENT
BEGIN:VEVENT
DTSTART;TZID=Europe/Berlin:20240511T100000
DTEND;TZID=Europe/Berlin:20240511T120000
DTSTAMP:20260423T184448
CREATED:20240425T121400Z
LAST-MODIFIED:20240510T123520Z
UID:10317-1715421600-1715428800@gruene-vulkaneifel.de
SUMMARY:Wahlkampfstand in Gerolstein (Edeka)
DESCRIPTION:Wir sind #StarkVorOrt.\nUnser Wahlkampfstand am Samstag\, 11.5. ab 09:00 Uhr am Edeka Markt in Gerolstein ist die perfekte Gelegenheit\, um mit uns und unseren Kommunalwahl-Kandidaten ins Gespräch zu kommen. \nBesuchen Sie uns\, wir freuen uns auf Sie!\nZusammen können wir MACHEN\, WAS ZÄHLT.
URL:https://gruene-vulkaneifel.de/event/wahlkampfstand-in-gerolstein-2/
LOCATION:EDEKA Markt Gerolstein\, Sarresdorfer Str. 57\, Gerolstein\, Rheinland-Pfalz\, 54568\, Deutschland
CATEGORIES:Wahlkampfstand
ATTACH;FMTTYPE=image/png:https://gruene-vulkaneifel.de/wp-content/uploads/2024/04/Wahlkampfstand.png
END:VEVENT
BEGIN:VEVENT
DTSTART;TZID=Europe/Berlin:20240518T100000
DTEND;TZID=Europe/Berlin:20240518T130000
DTSTAMP:20260423T184448
CREATED:20240511T152611Z
LAST-MODIFIED:20240511T152611Z
UID:10411-1716026400-1716037200@gruene-vulkaneifel.de
SUMMARY:Wahlkampfstand in Gerolstein
DESCRIPTION:Wir sind #StarkVorOrt.\nUnser Wahlkampfstand am Samstag\, 18.5. ab 10:00 Uhr am Edeka Markt in Gerolstein ist die perfekte Gelegenheit\, um mit uns und unseren Kommunalwahl-Kandidaten ins Gespräch zu kommen. \nBesuchen Sie uns\, wir freuen uns auf Sie!\nZusammen können wir MACHEN\, WAS ZÄHLT.
URL:https://gruene-vulkaneifel.de/event/wahlkampfstand-in-gerolstein-4/
LOCATION:EDEKA Markt Gerolstein\, Sarresdorfer Str. 57\, Gerolstein\, Rheinland-Pfalz\, 54568\, Deutschland
CATEGORIES:Wahlkampfstand
ATTACH;FMTTYPE=image/png:https://gruene-vulkaneifel.de/wp-content/uploads/2024/04/Wahlkampfstand.png
END:VEVENT
BEGIN:VEVENT
DTSTART;TZID=Europe/Berlin:20240525T100000
DTEND;TZID=Europe/Berlin:20240525T130000
DTSTAMP:20260423T184448
CREATED:20240511T152807Z
LAST-MODIFIED:20240511T152807Z
UID:10413-1716631200-1716642000@gruene-vulkaneifel.de
SUMMARY:Wahlkampfstand in Hillesheim
DESCRIPTION:Wir sind #StarkVorOrt.\nUnser Wahlkampfstand am Samstag\, 25.5. ab 10:00 Uhr auf dem Trödelmarkt an der Markthalle in Hillesheim ist die perfekte Gelegenheit\, um mit uns und unseren Kommunalwahl-Kandidaten ins Gespräch zu kommen. \nBesuchen Sie uns\, wir freuen uns auf Sie!\nZusammen können wir MACHEN\, WAS ZÄHLT.
URL:https://gruene-vulkaneifel.de/event/wahlkampfstand-in-hillesheim-2/
LOCATION:Antik- und Trödelmarkt Hillesheim\, Am Viehmarkt\, Hilleheim\, Rheinland-Pfalz\, 54576\, Deutschland
CATEGORIES:Wahlkampfstand
ATTACH;FMTTYPE=image/png:https://gruene-vulkaneifel.de/wp-content/uploads/2024/04/Wahlkampfstand.png
END:VEVENT
END:VCALENDAR