BEGIN:VCALENDAR
VERSION:2.0
PRODID:-//Bündnis90/Die Grünen Kreisverband Vulkaneifel - ECPv6.15.18//NONSGML v1.0//EN
CALSCALE:GREGORIAN
METHOD:PUBLISH
X-ORIGINAL-URL:https://gruene-vulkaneifel.de
X-WR-CALDESC:Veranstaltungen für Bündnis90/Die Grünen Kreisverband Vulkaneifel
REFRESH-INTERVAL;VALUE=DURATION:PT1H
X-Robots-Tag:noindex
X-PUBLISHED-TTL:PT1H
BEGIN:VTIMEZONE
TZID:Europe/Berlin
BEGIN:DAYLIGHT
TZOFFSETFROM:+0100
TZOFFSETTO:+0200
TZNAME:CEST
DTSTART:20230326T010000
END:DAYLIGHT
BEGIN:STANDARD
TZOFFSETFROM:+0200
TZOFFSETTO:+0100
TZNAME:CET
DTSTART:20231029T010000
END:STANDARD
BEGIN:DAYLIGHT
TZOFFSETFROM:+0100
TZOFFSETTO:+0200
TZNAME:CEST
DTSTART:20240331T010000
END:DAYLIGHT
BEGIN:STANDARD
TZOFFSETFROM:+0200
TZOFFSETTO:+0100
TZNAME:CET
DTSTART:20241027T010000
END:STANDARD
BEGIN:DAYLIGHT
TZOFFSETFROM:+0100
TZOFFSETTO:+0200
TZNAME:CEST
DTSTART:20250330T010000
END:DAYLIGHT
BEGIN:STANDARD
TZOFFSETFROM:+0200
TZOFFSETTO:+0100
TZNAME:CET
DTSTART:20251026T010000
END:STANDARD
END:VTIMEZONE
BEGIN:VEVENT
DTSTART;VALUE=DATE:20240428
DTEND;VALUE=DATE:20240429
DTSTAMP:20260424T054644
CREATED:20240409T184937Z
LAST-MODIFIED:20240409T184937Z
UID:10148-1714262400-1714348799@gruene-vulkaneifel.de
SUMMARY:Deadline: Sammelbestellung Balkonkraftwerk
DESCRIPTION:Die Energiewende in der Vulkaneifel in die Tat umsetzen \nMit den Stimmen der Kreistagsfraktion von B90/Die Grünen hat der Kreistag der Vulkaneifel am 18.03.2024 eine Richtlinie beschlossen\, wonach Mittel im Rahmen des kommunalen Investitionsprogramms „Klimaschutz und Innovation (KIPKI)“ des Landes Rheinland-Pfalz in Höhe von 100.000 Euro für die Förderung von Balkonkraftwerken in Privathaushalten ausgegeben werden können. \n150\,- € Förderung pro Haushalt für eine Mini-PV-Anlage\nJeder Haushalt in der Vulkaneifel kann seit dem 1. April für den Kauf einer Mini-PV-Anlage\, eine Förderung in Höhe von 150\,- € beantragen. Vor der Beantragung der Förderung muss die Anlage gekauft\, installiert und angemeldet sein. Dabei muss das Balkonkraftwerk nicht zwingend an einem Balkon installiert werden. \nMehr Informationen zur Beantragung und der aktuell schon bewilligten Anträge findet sich unter:https://www.vulkaneifel.de/kreis-auf-schwung/klimaschutz/balkonkraftwerke.html \nBis zum 28.4. doppelt bei einer Sammelbestellung sparen\nDamit möglichst viele Anlagen installiert werden\, haben die Grünen der Vulkaneifel eine Sammelbestellung bei Solarista (einem Unternehmen der evm-Gruppe) angeregt. Hierdurch besteht die Möglichkeit\, hochwertige Anlagen vergünstigt von einem Unternehmen aus der Region zu kaufen und durch eine zentrale Anlieferung auch noch Liefergebühren zu sparen. Das Formular für die Sammelbestellung kann bis zum 28.4.2024 verwendet werden und ist erreichbar unter: www.solarista.shop/Sammelbestellung \nLasst uns zusammen die Energiewende in die Tat umsetzen.
URL:https://gruene-vulkaneifel.de/event/deadline-sammelbestellung-balkonkraftwerk/
CATEGORIES:Empfehlung
ATTACH;FMTTYPE=image/jpeg:https://gruene-vulkaneifel.de/wp-content/uploads/2024/04/OIG3.YyMU4y7ILLQYeo6XqB2g-e1712676917449.jpeg
END:VEVENT
END:VCALENDAR