BEGIN:VCALENDAR
VERSION:2.0
PRODID:-//Bündnis90/Die Grünen Kreisverband Vulkaneifel - ECPv6.15.18//NONSGML v1.0//EN
CALSCALE:GREGORIAN
METHOD:PUBLISH
X-ORIGINAL-URL:https://gruene-vulkaneifel.de
X-WR-CALDESC:Veranstaltungen für Bündnis90/Die Grünen Kreisverband Vulkaneifel
REFRESH-INTERVAL;VALUE=DURATION:PT1H
X-Robots-Tag:noindex
X-PUBLISHED-TTL:PT1H
BEGIN:VTIMEZONE
TZID:Europe/Berlin
BEGIN:DAYLIGHT
TZOFFSETFROM:+0100
TZOFFSETTO:+0200
TZNAME:CEST
DTSTART:20230326T010000
END:DAYLIGHT
BEGIN:STANDARD
TZOFFSETFROM:+0200
TZOFFSETTO:+0100
TZNAME:CET
DTSTART:20231029T010000
END:STANDARD
BEGIN:DAYLIGHT
TZOFFSETFROM:+0100
TZOFFSETTO:+0200
TZNAME:CEST
DTSTART:20240331T010000
END:DAYLIGHT
BEGIN:STANDARD
TZOFFSETFROM:+0200
TZOFFSETTO:+0100
TZNAME:CET
DTSTART:20241027T010000
END:STANDARD
BEGIN:DAYLIGHT
TZOFFSETFROM:+0100
TZOFFSETTO:+0200
TZNAME:CEST
DTSTART:20250330T010000
END:DAYLIGHT
BEGIN:STANDARD
TZOFFSETFROM:+0200
TZOFFSETTO:+0100
TZNAME:CET
DTSTART:20251026T010000
END:STANDARD
END:VTIMEZONE
BEGIN:VEVENT
DTSTART;TZID=Europe/Berlin:20240606T180000
DTEND;TZID=Europe/Berlin:20240606T200000
DTSTAMP:20260425T030209
CREATED:20240601T111807Z
LAST-MODIFIED:20240601T111807Z
UID:10447-1717696800-1717704000@gruene-vulkaneifel.de
SUMMARY:„Mobilität“ im ländlichen Raum
DESCRIPTION:Einladung zur Diskussionsrunde zum Thema „Mobilität“ im ländlichen Raum.\nWir freuen uns als einen der Gäste \nHerrn Michael Hauer\,\nStaatssekretär des\nMinisteriums für Klimaschutz\, Umwelt\,\nEnergie und Mobilität Rheinland-Pfalz \nam 06. Juni 2024 um 18 Uhr im Mehrgenerationenhaus Gerolstein \nin unserer Diskussionsrunde begrüßen zu dürfen.\nWir wollen die Mobilität im ländlichen Raum grundlegend verbessern und gleichzeitig den Verkehr deutlich umweltverträglicher aufstellen. Wir brauchen eine menschen- und umweltverträgliche Verkehrspolitik\, welche die klima- und umweltschädlichen Emissionen senkt\, den Lärm reduziert\, die Gesundheit schützt und die begrenzten Mittel effizient einsetzt. \nWie können wir diesen Anspruch in der Vulkaneifel mit einer intelligenten Vernetzung der unter-\nschiedlichen Verkehrsträgern wie ÖPNV\, SPNV\, Individualverkehr und Fahrrad erreichen?\nWie können wir einen gut ausgebauten\, attraktiven ÖPNV auf Straßen\, Schienen\, gut ausgebaute\nFahrrad- und Fußwegen und die Umstellung auf E-Mobilität effizient in unserem Kreis umsetzen?\nDiese und andere Fragen werden in der Diskussionsrunde erläutert. \n  \nWir freuen uns über Euer Kommen. \nFreundliche Grüße\nDorothea Hafner\, Resi Schmitz\, Benjy Thömmes\, Judith Locker und Hendrik Eltze
URL:https://gruene-vulkaneifel.de/event/mobilitaet-im-laendlichen-raum/
LOCATION:Mehrgenerationenhaus des Caritasverbandes Westeifel\, Raderstr. 9\, Gerolstein\, 54568\, Deutschland
CATEGORIES:Infoveranstaltung
ATTACH;FMTTYPE=image/jpeg:https://gruene-vulkaneifel.de/wp-content/uploads/2024/06/image002.jpg
END:VEVENT
END:VCALENDAR